BEGIN:VCALENDAR
VERSION:2.0
PRODID:-//from wti.org//coded by bnzk.ch//
BEGIN:VEVENT
SUMMARY:Navigating Switzerland’s New Space Law: Legal Frameworks for a G
 rowing Industry
DTSTART:20250430T103000Z
DTEND:20250430T120000Z
END:VEVENT
END:VCALENDAR
